BEGIN:VCALENDAR
VERSION:2.0
PRODID:https://www.lanxess-arena.de/
METHOD:PUBLISH
BEGIN:VEVENT
UID:3a13aaeb5df2c6c6435638fec5e185ff@lanxess-arena.de
LOCATION:LANXESS arena, Willy-Brandt-Platz 3, 50679 Köln
SUMMARY:Felix Lobrecht
DESCRIPTION:Sell out
CLASS:PUBLIC
DTSTART;TZID=Europe/Berlin:20261106T200000
DTEND;TZID=Europe/Berlin:20261107T010000
DTSTAMP:20060812T125900Z
END:VEVENT
END:VCALENDAR