BEGIN:VCALENDAR
VERSION:2.0
PRODID:https://www.lanxess-arena.de/
METHOD:PUBLISH
BEGIN:VEVENT
UID:d4b664fe3f56b9df21bf2f616df87a0e@lanxess-arena.de
LOCATION:LANXESS arena, Willy-Brandt-Platz 3, 50679 Köln
SUMMARY:Felix Lobrecht
DESCRIPTION:Sell out
CLASS:PUBLIC
DTSTART;TZID=Europe/Berlin:20261107T200000
DTEND;TZID=Europe/Berlin:20261108T010000
DTSTAMP:20060812T125900Z
END:VEVENT
END:VCALENDAR