BEGIN:VCALENDAR
VERSION:2.0
PRODID:https://www.lanxess-arena.de/
METHOD:PUBLISH
BEGIN:VEVENT
UID:536d754975c5143b15d7376818d4b5b1@lanxess-arena.de
LOCATION:LANXESS arena, Willy-Brandt-Platz 3, 50679 Köln
SUMMARY:Felix Lobrecht
DESCRIPTION:Sell out
CLASS:PUBLIC
DTSTART;TZID=Europe/Berlin:20261105T200000
DTEND;TZID=Europe/Berlin:20261106T010000
DTSTAMP:20060812T125900Z
END:VEVENT
END:VCALENDAR