BEGIN:VCALENDAR
VERSION:2.0
PRODID:https://www.lanxess-arena.de/
METHOD:PUBLISH
BEGIN:VEVENT
UID:909b20dda29a5b334a05b6e94a7382ce@lanxess-arena.de
LOCATION:LANXESS arena, Willy-Brandt-Platz 3, 50679 Köln
SUMMARY:Schiller
DESCRIPTION:EUPHORIA - In Sourround Sound - Arena Tour
CLASS:PUBLIC
DTSTART;TZID=Europe/Berlin:20260512T200000
DTEND;TZID=Europe/Berlin:20260513T010000
DTSTAMP:20060812T125900Z
END:VEVENT
END:VCALENDAR