BEGIN:VCALENDAR
VERSION:2.0
PRODID:https://www.lanxess-arena.de/
METHOD:PUBLISH
BEGIN:VEVENT
UID:33b99eadf162665ddbd3182e98146a28@lanxess-arena.de
LOCATION:LANXESS arena, Willy-Brandt-Platz 3, 50679 Köln
SUMMARY:MountainMania
DESCRIPTION:präsentiert von DJ Ötzi
CLASS:PUBLIC
DTSTART;TZID=Europe/Berlin:20251213T190000
DTEND;TZID=Europe/Berlin:20251214T000000
DTSTAMP:20060812T125900Z
END:VEVENT
END:VCALENDAR