BEGIN:VCALENDAR
VERSION:2.0
PRODID:https://www.lanxess-arena.de/
METHOD:PUBLISH
BEGIN:VEVENT
UID:63c0dd2a9fcb34e3d7852ed267f07083@lanxess-arena.de
LOCATION:LANXESS arena, Willy-Brandt-Platz 3, 50679 Köln
SUMMARY:Die Schlagernacht des Jahres 2026
DESCRIPTION:mit den Top-Stars des Deutschen Schlagers
CLASS:PUBLIC
DTSTART;TZID=Europe/Berlin:20260509T180000
DTEND;TZID=Europe/Berlin:20260509T230000
DTSTAMP:20060812T125900Z
END:VEVENT
END:VCALENDAR