BEGIN:VCALENDAR
VERSION:2.0
PRODID:https://www.lanxess-arena.de/
METHOD:PUBLISH
BEGIN:VEVENT
UID:5777e406f138f46799c3b9d9c02dd085@lanxess-arena.de
LOCATION:LANXESS arena, Willy-Brandt-Platz 3, 50679 Köln
SUMMARY:Tribute to Xatar
DESCRIPTION:
CLASS:PUBLIC
DTSTART;TZID=Europe/Berlin:20260507T200000
DTEND;TZID=Europe/Berlin:20260508T010000
DTSTAMP:20060812T125900Z
END:VEVENT
END:VCALENDAR