BEGIN:VCALENDAR
VERSION:2.0
PRODID:https://www.lanxess-arena.de/
METHOD:PUBLISH
BEGIN:VEVENT
UID:b7189e53753a7283dd1edee2c30f2df7@lanxess-arena.de
LOCATION:LANXESS arena, Willy-Brandt-Platz 3, 50679 Köln
SUMMARY:Kasalla
DESCRIPTION:15 Jahre Kasalla - Die Jubiläumskonzerte
CLASS:PUBLIC
DTSTART;TZID=Europe/Berlin:20261016T200000
DTEND;TZID=Europe/Berlin:20261017T010000
DTSTAMP:20060812T125900Z
END:VEVENT
END:VCALENDAR