BEGIN:VCALENDAR
VERSION:2.0
PRODID:https://www.lanxess-arena.de/
METHOD:PUBLISH
BEGIN:VEVENT
UID:4f30efa0b5223bff29bef0b15fb8ca48@lanxess-arena.de
LOCATION:LANXESS arena, Willy-Brandt-Platz 3, 50679 Köln
SUMMARY:Kasalla
DESCRIPTION:15 Jahre Kasalla - Die Jubiläumskonzerte
CLASS:PUBLIC
DTSTART;TZID=Europe/Berlin:20261017T200000
DTEND;TZID=Europe/Berlin:20261018T010000
DTSTAMP:20060812T125900Z
END:VEVENT
END:VCALENDAR