BEGIN:VCALENDAR
VERSION:2.0
PRODID:https://www.lanxess-arena.de/
METHOD:PUBLISH
BEGIN:VEVENT
UID:7ef209b376afc64821ba7135d7fb00d8@lanxess-arena.de
LOCATION:LANXESS arena, Willy-Brandt-Platz 3, 50679 Köln
SUMMARY:PUR
DESCRIPTION:Arena Tour 2026
CLASS:PUBLIC
DTSTART;TZID=Europe/Berlin:20261213T190000
DTEND;TZID=Europe/Berlin:20261214T000000
DTSTAMP:20060812T125900Z
END:VEVENT
END:VCALENDAR