BEGIN:VCALENDAR
VERSION:2.0
PRODID:https://www.lanxess-arena.de/
METHOD:PUBLISH
BEGIN:VEVENT
UID:ed2d71604ad977eea9f3b26f8a6e5719@lanxess-arena.de
LOCATION:LANXESS arena, Willy-Brandt-Platz 3, 50679 Köln
SUMMARY:Marteria
DESCRIPTION:Zum Glück in die Zukunft-Tour 2026
CLASS:PUBLIC
DTSTART;TZID=Europe/Berlin:20261014T200000
DTEND;TZID=Europe/Berlin:20261015T010000
DTSTAMP:20060812T125900Z
END:VEVENT
END:VCALENDAR