BEGIN:VCALENDAR
VERSION:2.0
PRODID:https://www.lanxess-arena.de/
METHOD:PUBLISH
BEGIN:VEVENT
UID:fdc847a7906cf4ceef5faccd55dde5e4@lanxess-arena.de
LOCATION:LANXESS arena, Willy-Brandt-Platz 3, 50679 Köln
SUMMARY:LEA
DESCRIPTION:Sieben Monde Arena Tour 2027
CLASS:PUBLIC
DTSTART;TZID=Europe/Berlin:20270424T190000
DTEND;TZID=Europe/Berlin:20270425T000000
DTSTAMP:20060812T125900Z
END:VEVENT
END:VCALENDAR