BEGIN:VCALENDAR
VERSION:2.0
PRODID:https://www.lanxess-arena.de/
METHOD:PUBLISH
BEGIN:VEVENT
UID:1bda0d0c609f2f11da46a066ee05fd5c@lanxess-arena.de
LOCATION:LANXESS arena, Willy-Brandt-Platz 3, 50679 Köln
SUMMARY:Dieter Nuhr
DESCRIPTION:"Nuhr auf Tour 2027"
CLASS:PUBLIC
DTSTART;TZID=Europe/Berlin:20270312T200000
DTEND;TZID=Europe/Berlin:20270313T010000
DTSTAMP:20060812T125900Z
END:VEVENT
END:VCALENDAR