BEGIN:VCALENDAR
VERSION:2.0
PRODID:https://www.lanxess-arena.de/
METHOD:PUBLISH
BEGIN:VEVENT
UID:c632adc5ff33dd14cf00e06a65c3471e@lanxess-arena.de
LOCATION:LANXESS arena, Willy-Brandt-Platz 3, 50679 Köln
SUMMARY:Hollywood Vampires
DESCRIPTION:UK & European Tour 2026
CLASS:PUBLIC
DTSTART;TZID=Europe/Berlin:20260828T200000
DTEND;TZID=Europe/Berlin:20260829T010000
DTSTAMP:20060812T125900Z
END:VEVENT
END:VCALENDAR