BEGIN:VCALENDAR
VERSION:2.0
PRODID:https://www.lanxess-arena.de/
METHOD:PUBLISH
BEGIN:VEVENT
UID:3baca1088a9fd0c388e4df2616e0089e@lanxess-arena.de
LOCATION:LANXESS arena, Willy-Brandt-Platz 3, 50679 Köln
SUMMARY:Jan Böhmermann & Das Rundfunk-Tanzorchester Ehrenfeld
DESCRIPTION:"Auf! Auf! Ehrenfeld!“ Tour 2027
CLASS:PUBLIC
DTSTART;TZID=Europe/Berlin:20270202T200000
DTEND;TZID=Europe/Berlin:20270203T010000
DTSTAMP:20060812T125900Z
END:VEVENT
END:VCALENDAR