BEGIN:VCALENDAR
VERSION:2.0
PRODID:https://www.lanxess-arena.de/
METHOD:PUBLISH
BEGIN:VEVENT
UID:77a7b9471a8b3222eaf1533ee1c591b9@lanxess-arena.de
LOCATION:LANXESS arena, Willy-Brandt-Platz 3, 50679 Köln
SUMMARY:Lidl Final4 2027
DESCRIPTION:Das Saison-Highlight des deutschen Handballs
CLASS:PUBLIC
DTSTART;TZID=Europe/Berlin:20270411T000000
DTEND;TZID=Europe/Berlin:20270411T050000
DTSTAMP:20060812T125900Z
END:VEVENT
END:VCALENDAR