BEGIN:VCALENDAR
VERSION:2.0
PRODID:https://www.lanxess-arena.de/
METHOD:PUBLISH
BEGIN:VEVENT
UID:1422144d455f578c157822ab3d0e8175@lanxess-arena.de
LOCATION:LANXESS arena, Willy-Brandt-Platz 3, 50679 Köln
SUMMARY:Kool Savas
DESCRIPTION:Rhythmus meines Lebens Tour 2028
CLASS:PUBLIC
DTSTART;TZID=Europe/Berlin:20280108T200000
DTEND;TZID=Europe/Berlin:20280109T010000
DTSTAMP:20060812T125900Z
END:VEVENT
END:VCALENDAR